BEGIN:VCALENDAR
VERSION:2.0
PRODID:-//ChamberMaster//Event Calendar 2.0//EN
METHOD:PUBLISH
X-PUBLISHED-TTL:P3D
REFRESH-INTERVAL:P3D
CALSCALE:GREGORIAN
BEGIN:VEVENT
DTSTART:20141025T150000Z
DTEND:20141025T210000Z
X-MICROSOFT-CDO-ALLDAYEVENT:FALSE
SUMMARY:Mercy House Open House
DESCRIPTION:
X-ALT-DESC;FMTTYPE=text/html:
LOCATION:603 Field Street Colleyville\, TX 76034
UID:e.642.7029
SEQUENCE:3
DTSTAMP:20260421T203721Z
URL:https://business.colleyvillechamber.org/events/details/mercy-house-open-house-10-25-2014-7029
END:VEVENT

END:VCALENDAR
