BEGIN:VCALENDAR
VERSION:2.0
PRODID:-//ChamberMaster//Event Calendar 2.0//EN
METHOD:PUBLISH
X-PUBLISHED-TTL:P3D
REFRESH-INTERVAL:P3D
CALSCALE:GREGORIAN
BEGIN:VEVENT
DTSTART:20220805T170000Z
DTEND:20220805T200000Z
X-MICROSOFT-CDO-ALLDAYEVENT:FALSE
SUMMARY:Metroport Meals on Wheels
DESCRIPTION:Enjoy coffee\, treats\, and games in the morning. Bingo begins after lunch. Those 90 and over eat free. Please call 817.503.1195 on Monday or Tuesday the week of each meeting date to reserve your meal. Fee - $5
X-ALT-DESC;FMTTYPE=text/html:Enjoy coffee\, treats\, and games in the morning. Bingo begins after lunch. Those 90 and over eat free. Please call 817.503.1195 on Monday or Tuesday the week of each meeting date to reserve your meal. Fee - $5
LOCATION:Colleyville Center 5301 Riverwalk Drive Colleyville\, Texas 76034
UID:e.642.26534
SEQUENCE:3
DTSTAMP:20260424T211040Z
URL:https://business.colleyvillechamber.org/events/details/metroport-meals-on-wheels-08-05-2022-26534
END:VEVENT

END:VCALENDAR
