BEGIN:VCALENDAR
VERSION:2.0
PRODID:-//ChamberMaster//Event Calendar 2.0//EN
METHOD:PUBLISH
X-PUBLISHED-TTL:P3D
REFRESH-INTERVAL:P3D
CALSCALE:GREGORIAN
BEGIN:VEVENT
DTSTART;VALUE=DATE:20130610
DTEND;VALUE=DATE:20130611
TRANSP:TRANSPARENT
X-MICROSOFT-CDO-ALLDAYEVENT:TRUE
SUMMARY:Metroport Meals On Wheels 22nd Annual Golf Tournament
DESCRIPTION:Support MMOW's 22nd Annual Golf Tournament!\n\n	Proceeds support our home-delivered meals and senior center lunch and activity programs\n\n	\n\n	Monday\, June 10\n\n	Trophy Club Country Club\n\n	\n\n	7:15 am and 1:15 pm Shotgun Starts\n\n	\n\n	Registration includes\n\n	Premium Callaway Golfer Gift Salon!\n\n	\n\n	Sponsorships Available - flexible benefits\, various price points
X-ALT-DESC;FMTTYPE=text/html:<div style="text-align: center\;">\n	<strong><span style="font-size: 20px\;"><span style="color: rgb(165\, 42\, 42)\;">Support MMOW&#39\;s 22nd Annual Golf Tournament!</span></span></strong><br />\n	<span style="font-size: 16px\;"><span style="color: rgb(0\, 128\, 0)\;">Proceeds support our home-delivered meals and senior center lunch and activity programs</span></span><br />\n	<br />\n	<strong><span style="color: rgb(51\, 204\, 51)\;"><span style="font-size: 24px\;">Monday\, June 10<br />\n	Trophy Club Country Club</span></span></strong><br />\n	<br />\n	<span style="font-size: 16px\;"><span style="color: rgb(0\, 128\, 0)\;">7:15 am and 1:15 pm Shotgun Starts</span></span><br />\n	<br />\n	<span style="font-size: 18px\;"><span style="color: rgb(0\, 128\, 0)\;">Registration includes<br />\n	<strong>Premium Callaway Golfer Gift Salon!</strong></span></span><br />\n	<br />\n	<span style="font-size: 16px\;"><strong><em><span style="color: rgb(165\, 42\, 42)\;">Sponsorships Available - flexible benefits\, various price points</span></em></strong></span></div>\n
LOCATION:Trophy Club Country Club
UID:e.642.5605
SEQUENCE:3
DTSTAMP:20260422T210152Z
URL:https://business.colleyvillechamber.org/events/details/metroport-meals-on-wheels-22nd-annual-golf-tournament-06-10-2013-5605
END:VEVENT

END:VCALENDAR
