BEGIN:VCALENDAR
VERSION:2.0
PRODID:-//ChamberMaster//Event Calendar 2.0//EN
METHOD:PUBLISH
X-PUBLISHED-TTL:P3D
REFRESH-INTERVAL:P3D
CALSCALE:GREGORIAN
BEGIN:VEVENT
DTSTART;VALUE=DATE:20140609
DTEND;VALUE=DATE:20140610
TRANSP:TRANSPARENT
X-MICROSOFT-CDO-ALLDAYEVENT:TRUE
SUMMARY:Metroport Meals On Wheels' 23rd Annual Golf Classic
DESCRIPTION:Metroport Meals On Wheels\n\n23rd Annual Golf Classic\n\nMonday\, June 9th\n\nTrophy Club Country Club\n\n7:30 am and 1:30 pm Shotgun Starts\n\n\n\nTourney Bucks\, Mobile Pro Shop\, Hole-in-One Prizes\n\n19th Hole Food Festival Featuring Area Restaurants\n\nSilent and Live Auctions\n\nEARLY Registration Discounts Available thru April 30th\n\n\n\nwww. MetroportMOW.org
X-ALT-DESC;FMTTYPE=text/html:<h2 style="text-align: center\;"><strong><span style="font-size: 28px\;">Metroport Meals On Wheels</span></strong></h2>\n\n<h1 style="text-align: center\;"><strong><span style="font-size: 48px\;"><span style="color: rgb(0\, 128\, 0)\;">23rd Annual Golf Classic</span></span></strong></h1>\n\n<h2 style="text-align: center\;"><span style="font-size: 22px\;"><strong>Monday\, June 9th</strong></span></h2>\n\n<h3 style="text-align: center\;"><strong><span style="font-size: 18px\;"><span style="font-size: 22px\;">Trophy Club Country Club</span><br />\n7:30 am and 1:30 pm Shotgun Starts<br />\n<br />\n<span style="font-size: 16px\;">Tourney Bucks\, Mobile Pro Shop\, Hole-in-One Prizes<br />\n19th Hole Food Festival Featuring Area Restaurants<br />\nSilent and Live Auctions<br />\nEARLY Registration Discounts Available thru April 30th</span></span><br />\n<br />\n<span style="color: rgb(255\, 0\, 0)\;"><span style="font-size: 22px\;">www. MetroportMOW.org</span></span></strong></h3>\n
LOCATION:Trophy Club Country Club
UID:e.642.6862
SEQUENCE:3
DTSTAMP:20260422T015806Z
URL:https://business.colleyvillechamber.org/events/details/metroport-meals-on-wheels-23rd-annual-golf-classic-06-09-2014-6862
END:VEVENT

END:VCALENDAR
