BEGIN:VCALENDAR
VERSION:2.0
PRODID:-//ChamberMaster//Event Calendar 2.0//EN
METHOD:PUBLISH
X-PUBLISHED-TTL:P3D
REFRESH-INTERVAL:P3D
CALSCALE:GREGORIAN
BEGIN:VEVENT
DTSTART:20130319T233000Z
DTEND:20130320T010000Z
X-MICROSOFT-CDO-ALLDAYEVENT:FALSE
SUMMARY:Money & Mood: How Small Changes Can Change Your Life
DESCRIPTION:Many people are dealing with overwhelming stress these days. From increasing costs of living to reduced salaries and fears of losing our jobs or even our way of life\, the pressure can be immense. And the symptoms\n\nare often surprising:\n\n\n	Conflict . . . Hostility . . . Rage\n\n	Sadness . . . Isolating . . . Hopelessness . . . Withdrawing\n\n	Constant worry . . . Panic attacks . . . Sleeplessness\n\n\nThe link between concerns about finances and emotional and behavioral difficulty has long been known. But these days\, more families are seeing the symptoms without necessarily recognizing what can be a primary\n\nculprit.\n\n\n\nFinancial professional Rachel Ryan and licensed professional counselor Kelly P. Crossing have found that  making small changes can have a huge impact--in both improving a family's financial picture and improving\n\nstress levels and related behaviors.\n\n\n\nThis lively and engaging program steps through the lives of an average suburban family\, tells their story of stress and worry\, and ultimately shows them a systematic means of making things better.\n\n\n\nJoin Rachel and Kelly as they explore the very real connection between Money & Mood and provide sound\, proven strategies to help you improve your life.
X-ALT-DESC;FMTTYPE=text/html:Many people are dealing with overwhelming stress these days. From&nbsp\;increasing costs of living to reduced salaries and fears of losing our jobs&nbsp\;or even our way of life\, the pressure can be immense. And the symptoms<br />\nare often surprising:<br />\n<div style="text-align: center\;">\n	Conflict . . . Hostility . . . Rage<br />\n	Sadness . . . Isolating . . . Hopelessness . . . Withdrawing<br />\n	Constant worry . . . Panic attacks . . . Sleeplessness</div>\n<br />\nThe link between concerns about finances and emotional and behavioral&nbsp\;difficulty has long been known. But these days\, more families are seeing&nbsp\;the symptoms without necessarily recognizing what can be a primary<br />\nculprit.<br />\n<br />\nFinancial professional Rachel Ryan and licensed professional counselor&nbsp\;Kelly P. Crossing have found that &nbsp\;making small changes can have a huge&nbsp\;impact--in both improving a family&rsquo\;s financial picture and improving<br />\nstress levels and related behaviors.<br />\n<br />\nThis lively and engaging program steps through the lives of an average&nbsp\;suburban family\, tells their story of stress and worry\, and ultimately&nbsp\;shows them a systematic means of making things better.<br />\n<br />\nJoin Rachel and Kelly as they explore the very real connection between&nbsp\;Money &amp\; Mood and provide sound\, proven strategies to help you&nbsp\;improve your life.
LOCATION:Covenant Christian Academy 901 Cheek Sparger Road Colleyville Cafetorium of Jireh Hall
UID:e.642.5604
SEQUENCE:3
DTSTAMP:20260423T015929Z
URL:https://business.colleyvillechamber.org/events/details/money-mood-how-small-changes-can-change-your-life-03-19-2013-5604
END:VEVENT

END:VCALENDAR
