BEGIN:VCALENDAR
VERSION:2.0
PRODID:-//ChamberMaster//Event Calendar 2.0//EN
METHOD:PUBLISH
X-PUBLISHED-TTL:P3D
REFRESH-INTERVAL:P3D
CALSCALE:GREGORIAN
BEGIN:VEVENT
DTSTART:20150205T170000Z
DTEND:20150205T190000Z
X-MICROSOFT-CDO-ALLDAYEVENT:FALSE
SUMMARY:Monthly Luncheon
DESCRIPTION:Speaker:  Mayor Kelly and Jennifer Fadden\n\nTopic:  State of the City\n\nLocation:  Colleyville Center\n\n5301 Riverwalk Dr.\n\nColleyville\, TX  76034
X-ALT-DESC;FMTTYPE=text/html:Speaker:&nbsp\; Mayor Kelly and Jennifer Fadden<br />\nTopic:&nbsp\; State of the City<br />\nLocation:&nbsp\; Colleyville Center<br />\n5301 Riverwalk Dr.<br />\nColleyville\, TX&nbsp\; 76034
LOCATION:
UID:e.642.6962
SEQUENCE:3
DTSTAMP:20260421T140102Z
URL:https://business.colleyvillechamber.org/events/details/monthly-luncheon-02-05-2015-6962
END:VEVENT

END:VCALENDAR
