BEGIN:VCALENDAR
VERSION:2.0
PRODID:-//ChamberMaster//Event Calendar 2.0//EN
METHOD:PUBLISH
X-PUBLISHED-TTL:P3D
REFRESH-INTERVAL:P3D
CALSCALE:GREGORIAN
BEGIN:VEVENT
DTSTART:20140206T170000Z
DTEND:20140206T190000Z
X-MICROSOFT-CDO-ALLDAYEVENT:FALSE
SUMMARY:Monthly Luncheon
DESCRIPTION:Topic:          State of the City Address\n\nSpeakers:    Mayor David Kelly and City Manager Jennifer Fadden
X-ALT-DESC;FMTTYPE=text/html:Topic:&nbsp\;&nbsp\;&nbsp\;&nbsp\;&nbsp\;&nbsp\;&nbsp\;&nbsp\;&nbsp\;&nbsp\;State of the City Address<br />\nSpeakers:&nbsp\;&nbsp\;&nbsp\;&nbsp\;Mayor David Kelly and City Manager Jennifer Fadden
LOCATION:Colleyville Center 5301 Riverwalk Drive Colleyville Texas 76034
UID:e.642.5722
SEQUENCE:3
DTSTAMP:20260422T084420Z
URL:https://business.colleyvillechamber.org/events/details/monthly-luncheon-02-06-2014-5722
END:VEVENT

END:VCALENDAR
