BEGIN:VCALENDAR
VERSION:2.0
PRODID:-//ChamberMaster//Event Calendar 2.0//EN
METHOD:PUBLISH
X-PUBLISHED-TTL:P3D
REFRESH-INTERVAL:P3D
CALSCALE:GREGORIAN
BEGIN:VEVENT
DTSTART:20130307T170000Z
DTEND:20130307T190000Z
X-MICROSOFT-CDO-ALLDAYEVENT:FALSE
SUMMARY:Monthly Luncheon
DESCRIPTION:Join us as Dr. Robin Ryan\, GCISD Superintendent\, provides a brief of the State of the School District. The luncheon is sponsored by ICS Capital and will be catered by Italianni's.
X-ALT-DESC;FMTTYPE=text/html:Join us as&nbsp\;Dr. Robin Ryan\, GCISD Superintendent\,&nbsp\;provides a brief of the State of the School District. The luncheon is sponsored by ICS Capital and will be catered by Italianni&#39\;s.&nbsp\; 
LOCATION:Crown of Life Lutheran Church and School 6605 Pleasant Run Rd. Colleyville\, TX 76034
UID:e.642.5144
SEQUENCE:3
DTSTAMP:20260423T015726Z
URL:https://business.colleyvillechamber.org/events/details/monthly-luncheon-03-07-2013-5144
END:VEVENT

END:VCALENDAR
