BEGIN:VCALENDAR
VERSION:2.0
PRODID:-//ChamberMaster//Event Calendar 2.0//EN
METHOD:PUBLISH
X-PUBLISHED-TTL:P3D
REFRESH-INTERVAL:P3D
CALSCALE:GREGORIAN
BEGIN:VEVENT
DTSTART:20150402T160000Z
DTEND:20150402T180000Z
X-MICROSOFT-CDO-ALLDAYEVENT:FALSE
SUMMARY:Monthly Luncheon
DESCRIPTION:Speaker:  Dr. Robin Ryan\n\nTopic:  State of GCISD and Youth Leadership Graduation Ceremony\n\nLocation:  Colleyville Center\, 5301 Riverwalk Drive\n\nColleyville\, TX  76034
X-ALT-DESC;FMTTYPE=text/html:Speaker:&nbsp\; Dr. Robin Ryan<br />\nTopic:&nbsp\; State of GCISD and Youth Leadership Graduation Ceremony<br />\nLocation:&nbsp\; Colleyville Center\, 5301 Riverwalk Drive<br />\nColleyville\, TX&nbsp\; 76034
LOCATION:
UID:e.642.6963
SEQUENCE:3
DTSTAMP:20260421T095847Z
URL:https://business.colleyvillechamber.org/events/details/monthly-luncheon-04-02-2015-6963
END:VEVENT

END:VCALENDAR
