BEGIN:VCALENDAR
VERSION:2.0
PRODID:-//ChamberMaster//Event Calendar 2.0//EN
METHOD:PUBLISH
X-PUBLISHED-TTL:P3D
REFRESH-INTERVAL:P3D
CALSCALE:GREGORIAN
BEGIN:VEVENT
DTSTART:20140403T160000Z
DTEND:20140403T180000Z
X-MICROSOFT-CDO-ALLDAYEVENT:FALSE
SUMMARY:Monthly Luncheon
DESCRIPTION:City of Colleyville Comprehensive Plan Update\n\nGuest Speaker:  Jim Carrillo\, Vice President Director of Planning\n\nHalff Associates\, Inc.
X-ALT-DESC;FMTTYPE=text/html:City of Colleyville Comprehensive Plan Update<br />\nGuest Speaker:&nbsp\; Jim Carrillo\, Vice President Director of Planning<br />\nHalff Associates\, Inc.<br />\n&nbsp\;
LOCATION:Colleyville Center 5301 Riverwalk Drive Colleyville Texas 76034
UID:e.642.5724
SEQUENCE:3
DTSTAMP:20260422T065634Z
URL:https://business.colleyvillechamber.org/events/details/monthly-luncheon-04-03-2014-5724
END:VEVENT

END:VCALENDAR
