BEGIN:VCALENDAR
VERSION:2.0
PRODID:-//ChamberMaster//Event Calendar 2.0//EN
METHOD:PUBLISH
X-PUBLISHED-TTL:P3D
REFRESH-INTERVAL:P3D
CALSCALE:GREGORIAN
BEGIN:VEVENT
DTSTART:20140501T160000Z
DTEND:20140501T180000Z
X-MICROSOFT-CDO-ALLDAYEVENT:FALSE
SUMMARY:Monthly Luncheon
DESCRIPTION:Topic:  Health Care Reform/The Cost of Insurance\n\nPanel Discussion/Speakers:  Nancy Hill\, Chief Operating Officer\, North Hills Hospital\; Dr. Kevin Wacasey\, Colleyville Medical Clinic\; and Jack McCarty\, Health Insurance Specialist\n\nSponsors:  Allen Samuels and North Hills Hospital\n\nLocation:  Crown of Life Lutheran Church & School
X-ALT-DESC;FMTTYPE=text/html:<br />\n<strong>Topic:&nbsp\; Health Care Reform/The Cost of Insurance</strong><br />\nPanel Discussion/Speakers:&nbsp\; Nancy Hill\, Chief Operating Officer\, North Hills Hospital\; Dr. Kevin Wacasey\, Colleyville Medical Clinic\; and Jack McCarty\, Health Insurance Specialist<br />\nSponsors:&nbsp\; Allen Samuels and North Hills Hospital<br />\nLocation:&nbsp\; Crown of Life Lutheran Church &amp\; School
LOCATION:
UID:e.642.5725
SEQUENCE:3
DTSTAMP:20260422T033118Z
URL:https://business.colleyvillechamber.org/events/details/monthly-luncheon-05-01-2014-5725
END:VEVENT

END:VCALENDAR
