BEGIN:VCALENDAR
VERSION:2.0
PRODID:-//ChamberMaster//Event Calendar 2.0//EN
METHOD:PUBLISH
X-PUBLISHED-TTL:P3D
REFRESH-INTERVAL:P3D
CALSCALE:GREGORIAN
BEGIN:VEVENT
DTSTART:20130502T160000Z
DTEND:20130502T180000Z
X-MICROSOFT-CDO-ALLDAYEVENT:FALSE
SUMMARY:Monthly Luncheon
DESCRIPTION:Guest Speaker:  Victor Foia\, Entrepreneur Author\n\n	\n\n	Mr. Foia returns to Colleyville to present his historic journey as he embarked on his quest to write the Dracula Chronicles.  Learn how this former Colleyville resident went from Corporate Executive to author.  Mr. Foia will have copies of the Dracula Chronicles available for signing at the luncheon.\n\n	Victor T. Foia was born in Transylvania where he studied theoretical physics at Babes-Bolyai University in Cluj. At the age of 22 Victor escaped from behind the Iron Curtain and defected to Italy. After a waiting period of months spent in UN refugee camps\, he emigrated to the United States. There Victor graduated from the University of Illinois and University of Dallas. He then embarked upon a career as an international corporate executive. Presently he is engaged full time in writing historical fiction.\n\n	\n\n	Victor's interest in Dracula dates from the age of six\, when he first visited his compatriot's birthplace only a hundred miles from his own. Soon this interest became a lasting passion for research into Dracula's life. Exploring castles\, fortresses\, and monasteries throughout Eastern Europe and the Middle East\, Victor went beyond the iconic Dracula literature to ferret out the essence of the man behind the Legend. The four decade long quest has taken Victor to virtually all the places where Dracula lived\, loved\, fought\, and was imprisoned. In the end\, by the empty tomb from where the prince disappeared without a trace 535 years ago\, Victor felt his journey of discovery was complete and now the story of the real Dracula could be told.\n\n	\n\n	Learn more about the Dracula Chronicles at http://www.prlog.org/12053408-transylvanian-author-turns-four-decades-of-research-into-dracula-chronicles.html
X-ALT-DESC;FMTTYPE=text/html:<p>\n	Guest Speaker:&nbsp\; Victor Foia\, Entrepreneur Author<br />\n	<br />\n	Mr. Foia returns to Colleyville to present his historic journey as he embarked on his quest to write the<em> Dracula Chronicles</em>.&nbsp\;&nbsp\;Learn how this&nbsp\;former Colleyville resident went from Corporate Executive to author.&nbsp\; Mr. Foia will have copies of the <em>Dracula Chronicles </em>available for signing at the&nbsp\;luncheon.<br />\n	<span style="font-family: arial\;"><span style="font-size: 11px\;"><strong><span style="color: rgb(51\, 51\, 51)\;">Victor T. Foia</span></strong><span style="color: rgb(51\, 51\, 51)\;">&nbsp\;was born in Transylvania where he studied theoretical physics at Babes-Bolyai University in Cluj. At the age of 22 Victor escaped from behind the Iron Curtain and defected to Italy. After a waiting period of months spent in UN refugee camps\, he emigrated to the United States. There Victor graduated from the University of Illinois and University of Dallas. He then embarked upon a career as an international corporate executive. Presently he is engaged full time in writing historical fiction.</span><br />\n	<br />\n	<span style="color: rgb(51\, 51\, 51)\;">Victor&rsquo\;s interest in Dracula dates from the age of six\, when he first visited his compatriot&rsquo\;s birthplace only a hundred miles from his own. Soon this interest became a lasting passion for research into Dracula&rsquo\;s life. Exploring castles\, fortresses\, and monasteries throughout Eastern Europe and the Middle East\, Victor went beyond the iconic Dracula literature to ferret out the essence of the man behind the Legend. The four&#8209\;decade long quest has taken Victor to virtually all the places where Dracula lived\, loved\, fought\, and was imprisoned. In the end\, by the empty tomb from where the prince disappeared without a trace 535 years ago\, Victor felt his journey of discovery was complete and now the story of the&nbsp\;<strong><em>real</em></strong>&nbsp\;Dracula could be told.</span></span></span><br />\n	<br />\n	<span style="font-size: 11px\;">Learn more about the Dracula Chronicles at <a href="http://www.prlog.org/12053408-transylvanian-author-turns-four-decades-of-research-into-dracula-chronicles.html"><span style="font-family: arial\,sans-serif\;"><span style="color: rgb(0\, 0\, 255)\;">http://www.prlog.org/12053408-transylvanian-author-turns-four-decades-of-research-into-dracula-chronicles.html</span></span></a></span><br />\n	<br />\n	&nbsp\;</p>\n
LOCATION:Colleyville Center
UID:e.642.5146
SEQUENCE:3
DTSTAMP:20260422T222623Z
URL:https://business.colleyvillechamber.org/events/details/monthly-luncheon-05-02-2013-5146
END:VEVENT

END:VCALENDAR
