BEGIN:VCALENDAR
VERSION:2.0
PRODID:-//ChamberMaster//Event Calendar 2.0//EN
METHOD:PUBLISH
X-PUBLISHED-TTL:P3D
REFRESH-INTERVAL:P3D
CALSCALE:GREGORIAN
BEGIN:VEVENT
DTSTART:20140605T160000Z
DTEND:20140605T180000Z
X-MICROSOFT-CDO-ALLDAYEVENT:FALSE
SUMMARY:Monthly Luncheon
DESCRIPTION:June Monthly Luncheon/Leadership Colleyville Graduation\n\nColleyville Center
X-ALT-DESC;FMTTYPE=text/html:June Monthly Luncheon/Leadership Colleyville Graduation<br />\nColleyville Center
LOCATION:
UID:e.642.5726
SEQUENCE:3
DTSTAMP:20260422T014326Z
URL:https://business.colleyvillechamber.org/events/details/monthly-luncheon-06-05-2014-5726
END:VEVENT

END:VCALENDAR
