BEGIN:VCALENDAR
VERSION:2.0
PRODID:-//ChamberMaster//Event Calendar 2.0//EN
METHOD:PUBLISH
X-PUBLISHED-TTL:P3D
REFRESH-INTERVAL:P3D
CALSCALE:GREGORIAN
BEGIN:VEVENT
DTSTART:20120607T160000Z
DTEND:20120607T180000Z
X-MICROSOFT-CDO-ALLDAYEVENT:FALSE
SUMMARY:Monthly Luncheon
DESCRIPTION:DIFFERENT LOCATION THIS MONTH!\n\nCovenant Christian Academy\n\n901 Cheek-Sparger Road\n\nColleyville\, 76034
X-ALT-DESC;FMTTYPE=text/html:<em><strong><span style="color: rgb(255\, 0\, 0)\;">DIFFERENT LOCATION THIS MONTH!</span></strong></em><br />\n<strong>Covenant Christian Academy</strong><br />\n901 Cheek-Sparger Road<br />\nColleyville\, 76034<br />\n<br />\n
LOCATION:Covenant Christian Academy 901 Cheek-Sparger Road Colleyville\, 76034
UID:e.642.3816
SEQUENCE:3
DTSTAMP:20260423T182315Z
URL:https://business.colleyvillechamber.org/events/details/monthly-luncheon-06-07-2012-3816
END:VEVENT

END:VCALENDAR
