BEGIN:VCALENDAR
VERSION:2.0
PRODID:-//ChamberMaster//Event Calendar 2.0//EN
METHOD:PUBLISH
X-PUBLISHED-TTL:P3D
REFRESH-INTERVAL:P3D
CALSCALE:GREGORIAN
BEGIN:VEVENT
DTSTART:20130801T160000Z
DTEND:20130801T180000Z
X-MICROSOFT-CDO-ALLDAYEVENT:FALSE
SUMMARY:Monthly Luncheon
DESCRIPTION:Join the Colleyville Area Chamber of Commerce for a presentation by TranSystems and Cooksey Communications discussing the Glade Road Project.  Members of the Glade Road preliminary design study project team will provide an update on the project and solicit feedback from luncheon attendees.
X-ALT-DESC;FMTTYPE=text/html:Join the Colleyville Area Chamber of Commerce for a presentation by TranSystems and Cooksey Communications discussing the Glade Road Project.&nbsp\; Members of the Glade Road preliminary design study project team will provide an update on the project and solicit feedback from luncheon attendees.<br />\n<br />\n&nbsp\;
LOCATION:Colleyville Center 5301 Riverwalk Drive Colleyville\, TX 76034
UID:e.642.5148
SEQUENCE:3
DTSTAMP:20260422T175028Z
URL:https://business.colleyvillechamber.org/events/details/monthly-luncheon-08-01-2013-5148
END:VEVENT

END:VCALENDAR
