BEGIN:VCALENDAR
VERSION:2.0
PRODID:-//ChamberMaster//Event Calendar 2.0//EN
METHOD:PUBLISH
X-PUBLISHED-TTL:P3D
REFRESH-INTERVAL:P3D
CALSCALE:GREGORIAN
BEGIN:VEVENT
DTSTART:20140807T160000Z
DTEND:20140807T180000Z
X-MICROSOFT-CDO-ALLDAYEVENT:FALSE
SUMMARY:Monthly Luncheon
DESCRIPTION:August Monthly Luncheon\n\nCrown of Life Lutheran Church & School\n\n6605 Pleasant Run Rd.\n\nColleyville\, TX  76034
X-ALT-DESC;FMTTYPE=text/html:August Monthly Luncheon<br />\nCrown of Life Lutheran Church &amp\; School<br />\n6605 Pleasant Run Rd.<br />\nColleyville\, TX&nbsp\; 76034
LOCATION:
UID:e.642.5727
SEQUENCE:3
DTSTAMP:20260421T235347Z
URL:https://business.colleyvillechamber.org/events/details/monthly-luncheon-08-07-2014-5727
END:VEVENT

END:VCALENDAR
