BEGIN:VCALENDAR
VERSION:2.0
PRODID:-//ChamberMaster//Event Calendar 2.0//EN
METHOD:PUBLISH
X-PUBLISHED-TTL:P3D
REFRESH-INTERVAL:P3D
CALSCALE:GREGORIAN
BEGIN:VEVENT
DTSTART:20140904T160000Z
DTEND:20140904T180000Z
X-MICROSOFT-CDO-ALLDAYEVENT:FALSE
SUMMARY:Monthly Luncheon
DESCRIPTION:September Monthly Luncheon\n\nThe Changing Role that Non-Profits Play in Our Community\n\nLocation:  Colleyville Center
X-ALT-DESC;FMTTYPE=text/html:September Monthly Luncheon<br />\nThe Changing Role that Non-Profits Play in Our Community<br />\nLocation: &nbsp\;Colleyville Center
LOCATION:
UID:e.642.5728
SEQUENCE:3
DTSTAMP:20260421T204940Z
URL:https://business.colleyvillechamber.org/events/details/monthly-luncheon-09-04-2014-5728
END:VEVENT

END:VCALENDAR
