BEGIN:VCALENDAR
VERSION:2.0
PRODID:-//ChamberMaster//Event Calendar 2.0//EN
METHOD:PUBLISH
X-PUBLISHED-TTL:P3D
REFRESH-INTERVAL:P3D
CALSCALE:GREGORIAN
BEGIN:VEVENT
DTSTART:20130905T160000Z
DTEND:20130905T180000Z
X-MICROSOFT-CDO-ALLDAYEVENT:FALSE
SUMMARY:Monthly Luncheon
DESCRIPTION:Special Guest Speaker: \n\n	State Representative Giovanni Capriglione\n\n	Legislative Re-Cap.
X-ALT-DESC;FMTTYPE=text/html:<p>\n	<span style="font-size: 14px\;"><span style="font-family: arial\;"><strong>Special Guest Speaker:</strong>&nbsp\;</span></span></p>\n<p>\n	<span style="font-size: 14px\;"><span style="font-family: arial\;">State Representative Giovanni Capriglione</span></span></p>\n<p>\n	<span style="font-size: 14px\;"><span style="font-family: arial\;">Legislative Re-Cap.</span></span></p>\n
LOCATION:Crown of Life Lutheran Church and School 6605 Pleasant Run Road Colleyville\, Texas 76034
UID:e.642.5149
SEQUENCE:3
DTSTAMP:20260422T162925Z
URL:https://business.colleyvillechamber.org/events/details/monthly-luncheon-09-05-2013-5149
END:VEVENT

END:VCALENDAR
