BEGIN:VCALENDAR
VERSION:2.0
PRODID:-//ChamberMaster//Event Calendar 2.0//EN
METHOD:PUBLISH
X-PUBLISHED-TTL:P3D
REFRESH-INTERVAL:P3D
CALSCALE:GREGORIAN
BEGIN:VEVENT
DTSTART:20141002T160000Z
DTEND:20141002T180000Z
X-MICROSOFT-CDO-ALLDAYEVENT:FALSE
SUMMARY:Monthly Luncheon
DESCRIPTION:October Monthly Luncheon\n\nCrown of Life Lutheran Church & School
X-ALT-DESC;FMTTYPE=text/html:October Monthly Luncheon<br />\nCrown of Life Lutheran Church &amp\; School
LOCATION:
UID:e.642.5729
SEQUENCE:3
DTSTAMP:20260421T202458Z
URL:https://business.colleyvillechamber.org/events/details/monthly-luncheon-10-02-2014-5729
END:VEVENT

END:VCALENDAR
