BEGIN:VCALENDAR
VERSION:2.0
PRODID:-//ChamberMaster//Event Calendar 2.0//EN
METHOD:PUBLISH
X-PUBLISHED-TTL:P3D
REFRESH-INTERVAL:P3D
CALSCALE:GREGORIAN
BEGIN:VEVENT
DTSTART:20121004T160000Z
DTEND:20121004T180000Z
X-MICROSOFT-CDO-ALLDAYEVENT:FALSE
SUMMARY:Monthly Luncheon
DESCRIPTION:Steve\n	\n		Lamb\, Sports Director of WBAP will discuss how you can involve your business in athletic marketing at the local level and what we can expect from our area's favorite teams including the Texas Rangers\, Dallas Cowboys and TCU Horned Frogs!
X-ALT-DESC;FMTTYPE=text/html:<div style="color: gray">\n	<span>Steve</span>\n	<div class="_mcePaste" id="_mcePaste" style="display: inline">\n		<span><span>Lamb\, Sports Director of WBAP&nbsp\;will discuss how you can involve your business in athletic marketing at the local level and what we can expect from our area&#39\;s favorite teams including the Texas Rangers\, Dallas Cowboys and TCU Horned Frogs!</span></span><span><span>&nbsp\;<span _fck_bookmark="1" style="display: none">&nbsp\;</span></span></span></div>\n</div>\n
LOCATION:Crown of Life Lutheran Church & School 6605 Pleasant Run Rd. Colleyville
UID:e.642.3819
SEQUENCE:3
DTSTAMP:20260423T104850Z
URL:https://business.colleyvillechamber.org/events/details/monthly-luncheon-10-04-2012-3819
END:VEVENT

END:VCALENDAR
