BEGIN:VCALENDAR
VERSION:2.0
PRODID:-//ChamberMaster//Event Calendar 2.0//EN
METHOD:PUBLISH
X-PUBLISHED-TTL:P3D
REFRESH-INTERVAL:P3D
CALSCALE:GREGORIAN
BEGIN:VEVENT
DTSTART:20141106T170000Z
DTEND:20141106T190000Z
X-MICROSOFT-CDO-ALLDAYEVENT:FALSE
SUMMARY:Monthly Luncheon
DESCRIPTION:November Monthly Luncheon\n\nColleyville Center\n\n5301 Riverwalk Dr.\n\nColleyville\, TX 76034
X-ALT-DESC;FMTTYPE=text/html:November Monthly Luncheon<br />\nColleyville Center<br />\n5301 Riverwalk Dr.<br />\nColleyville\, TX 76034
LOCATION:
UID:e.642.5730
SEQUENCE:3
DTSTAMP:20260421T171816Z
URL:https://business.colleyvillechamber.org/events/details/monthly-luncheon-11-06-2014-5730
END:VEVENT

END:VCALENDAR
