BEGIN:VCALENDAR
VERSION:2.0
PRODID:-//ChamberMaster//Event Calendar 2.0//EN
METHOD:PUBLISH
X-PUBLISHED-TTL:P3D
REFRESH-INTERVAL:P3D
CALSCALE:GREGORIAN
BEGIN:VEVENT
DTSTART:20141204T170000Z
DTEND:20141204T190000Z
X-MICROSOFT-CDO-ALLDAYEVENT:FALSE
SUMMARY:Monthly Luncheon
DESCRIPTION:December Monthly Luncheon\n\nCrown of Life Lutheran Church & School\n\n6605 Pleasant Run Road\n\nColleyville\, TX  76034
X-ALT-DESC;FMTTYPE=text/html:December Monthly Luncheon<br />\nCrown of Life Lutheran Church &amp\; School<br />\n6605 Pleasant Run Road<br />\nColleyville\, TX&nbsp\; 76034
LOCATION:
UID:e.642.5731
SEQUENCE:3
DTSTAMP:20260421T153345Z
URL:https://business.colleyvillechamber.org/events/details/monthly-luncheon-12-04-2014-5731
END:VEVENT

END:VCALENDAR
