BEGIN:VCALENDAR
VERSION:2.0
PRODID:-//ChamberMaster//Event Calendar 2.0//EN
METHOD:PUBLISH
X-PUBLISHED-TTL:P3D
REFRESH-INTERVAL:P3D
CALSCALE:GREGORIAN
BEGIN:VEVENT
DTSTART:20150108T170000Z
DTEND:20150108T190000Z
X-MICROSOFT-CDO-ALLDAYEVENT:FALSE
SUMMARY:Monthly Luncheon - Joint Chamber
DESCRIPTION:Joint Chamber luncheon with Grapevine Chamber.  Speakers are State Senator Kelly Hancock and State Representative Giovanni Capriglione.\n\nLocation:  Grapevine Convention Center
X-ALT-DESC;FMTTYPE=text/html:Joint Chamber luncheon with Grapevine Chamber.&nbsp\; Speakers are State Senator Kelly Hancock and State Representative Giovanni Capriglione.<br />\nLocation:&nbsp\; Grapevine Convention Center
LOCATION:
UID:e.642.7020
SEQUENCE:3
DTSTAMP:20260421T140740Z
URL:https://business.colleyvillechamber.org/events/details/monthly-luncheon-joint-chamber-01-08-2015-7020
END:VEVENT

END:VCALENDAR
