BEGIN:VCALENDAR
VERSION:2.0
PRODID:-//ChamberMaster//Event Calendar 2.0//EN
METHOD:PUBLISH
X-PUBLISHED-TTL:P3D
REFRESH-INTERVAL:P3D
CALSCALE:GREGORIAN
BEGIN:VEVENT
DTSTART:20130404T160000Z
DTEND:20130404T180000Z
X-MICROSOFT-CDO-ALLDAYEVENT:FALSE
SUMMARY:Monthly Luncheon - Joint Chambers
DESCRIPTION:The Grapevine\, Colleyville & Southlake Chambers of Commerce present the Regional Air Quality Report.  The luncheon is sponsored by the cities of Grapevine\, Colleyville & Southlake in partnership with the North Central Texas Council of Governments.  Join us for a panel discussion and lunch provided by Esparza's.\n\n\n\nInvited panelists include:\n\nThe U.S. Environmental Protection Agency\n\nTexas Commission on Environmental Quality\n\nNorth Central Texas Council of Governments
X-ALT-DESC;FMTTYPE=text/html:The Grapevine\, Colleyville &amp\; Southlake Chambers of Commerce present the <strong>Regional Air Quality Report</strong>.&nbsp\; The luncheon is sponsored by the cities of Grapevine\, Colleyville &amp\; Southlake in partnership with the North Central Texas Council of Governments.&nbsp\; Join us for a panel discussion and lunch provided by Esparza&#39\;s.<br />\n<br />\n<u>Invited panelists include</u>:<br />\nThe U.S. Environmental Protection Agency<br />\nTexas Commission on Environmental Quality<br />\nNorth Central Texas Council of Governments<br />\n
LOCATION:Colleyville Center 5301 Riverwalk Drive Colleyville\, TX 76034
UID:e.642.5145
SEQUENCE:3
DTSTAMP:20260423T015639Z
URL:https://business.colleyvillechamber.org/events/details/monthly-luncheon-joint-chambers-04-04-2013-5145
END:VEVENT

END:VCALENDAR
