BEGIN:VCALENDAR
VERSION:2.0
PRODID:-//ChamberMaster//Event Calendar 2.0//EN
METHOD:PUBLISH
X-PUBLISHED-TTL:P3D
REFRESH-INTERVAL:P3D
CALSCALE:GREGORIAN
BEGIN:VEVENT
DTSTART:20120809T220000Z
DTEND:20120810T003000Z
X-MICROSOFT-CDO-ALLDAYEVENT:FALSE
SUMMARY:Morrison Appliances - Cooking Demonstration
DESCRIPTION:You're Invited!  Come and enjoy a cooking demonstration by Sub-Zero/Wolf chef\, Garth Blackburn!
X-ALT-DESC;FMTTYPE=text/html:You&#39\;re Invited!&nbsp\; Come and enjoy a cooking demonstration by Sub-Zero/Wolf chef\, Garth Blackburn!&nbsp\; 
LOCATION:1900 S. Main St. Suite 110\, inside Stacy Furniture Grapevine\, TX 76051 682-651-4000
UID:e.642.5067
SEQUENCE:3
DTSTAMP:20260423T151837Z
URL:https://business.colleyvillechamber.org/events/details/morrison-appliances-cooking-demonstration-08-09-2012-5067
END:VEVENT

END:VCALENDAR
