BEGIN:VCALENDAR
VERSION:2.0
PRODID:-//ChamberMaster//Event Calendar 2.0//EN
METHOD:PUBLISH
X-PUBLISHED-TTL:P3D
REFRESH-INTERVAL:P3D
CALSCALE:GREGORIAN
BEGIN:VEVENT
DTSTART:20141028T220000Z
DTEND:20141029T000000Z
X-MICROSOFT-CDO-ALLDAYEVENT:FALSE
SUMMARY:Muiti Chamber Mixer
DESCRIPTION:Multi Chamber networking event at the Glass Cactus on the Gaylord Resort property.  A ticket is required for entry\, and tickets are limited per Chamber.
X-ALT-DESC;FMTTYPE=text/html:Multi Chamber networking event at the Glass Cactus on the Gaylord Resort property.&nbsp\; A ticket is required for entry\, and tickets are limited per Chamber.
LOCATION:
UID:e.642.6961
SEQUENCE:3
DTSTAMP:20260421T203625Z
URL:https://business.colleyvillechamber.org/events/details/muiti-chamber-mixer-10-28-2014-6961
END:VEVENT

END:VCALENDAR
