BEGIN:VCALENDAR
VERSION:2.0
PRODID:-//ChamberMaster//Event Calendar 2.0//EN
METHOD:PUBLISH
X-PUBLISHED-TTL:P3D
REFRESH-INTERVAL:P3D
CALSCALE:GREGORIAN
BEGIN:VEVENT
DTSTART:20130409T220000Z
DTEND:20130410T000000Z
X-MICROSOFT-CDO-ALLDAYEVENT:FALSE
SUMMARY:Multi Chamber Mixer
DESCRIPTION:Contact the Chamber to pick up a complimentary ticket.  Tickets are limited!
X-ALT-DESC;FMTTYPE=text/html:Contact the Chamber to pick up a complimentary ticket.&nbsp\; Tickets are limited!<br />\n
LOCATION:Hurst Conference Center
UID:e.642.5191
SEQUENCE:3
DTSTAMP:20260423T014940Z
URL:https://business.colleyvillechamber.org/events/details/multi-chamber-mixer-04-09-2013-5191
END:VEVENT

END:VCALENDAR
