BEGIN:VCALENDAR
VERSION:2.0
PRODID:-//ChamberMaster//Event Calendar 2.0//EN
METHOD:PUBLISH
X-PUBLISHED-TTL:P3D
REFRESH-INTERVAL:P3D
CALSCALE:GREGORIAN
BEGIN:VEVENT
DTSTART:20130524T220000Z
DTEND:20130525T000000Z
X-MICROSOFT-CDO-ALLDAYEVENT:FALSE
SUMMARY:Multi-Chamber Mixer and Ft. Worth Cats Ball Game
DESCRIPTION:Join The Northeast Tarrant\, Colleyville and Southlake Chambers for "FAMILY FUN FRIDAY" with the Fort Worth Cats at historic LaGrave Field! \n\n	Friday\, May 24th * 5-7pm * Multi-Chamber Mixer (Kids Welcome!) \n\n	Complimentary Ballpark Hors d' oeuvres in the Pavilion \n\n	7:05pm Ft Worth Cats vs Edinburg Roadrunners \n\n	Discounted Premium Game Tickets @ $5 each. For Mixer and Game Tickets RSVP by 12 noon Thursday\, May 23 to Your Chamber (NE Tarrant - Beverly Woolsey at 817-281-9376 or bwoolsey@netarrant.org\, Colleyville - Shirlee Randall at (817) 488-7148 or email at shirlee@colleyvillechamber.org\, Southlake - Patti Faber at 817-481-8200 or email at patti@southlakechamber.com) \n\n	All kids get to run the bases after the game!
X-ALT-DESC;FMTTYPE=text/html:<p>\n	<span style="font-size: 12px\;"><b><b><font size="6">Join The Northeast Tarrant\, Colleyville and Southlake Chambers for &quot\;FAMILY FUN FRIDAY&quot\; with the Fort Worth Cats at historic LaGrave Field! </font></b></b></span></p>\n<p>\n	<span style="font-size: 12px\;"><b><b><font size="5">Friday\, May 24th * 5-7pm * Multi-Chamber Mixer (Kids Welcome!) </font></b></b></span></p>\n<p>\n	<span style="font-size: 12px\;"><b><b><font size="5">Complimentary Ballpark Hors d&#39\; oeuvres in the Pavilion </font></b></b></span></p>\n<p>\n	<span style="font-size: 12px\;"><b><b><font size="5">7:05pm&mdash\;Ft Worth Cats vs Edinburg Roadrunners </font></b></b></span></p>\n<p>\n	<span style="font-size: 12px\;"><b><b><font size="3">Discounted Premium Game Tickets @ $5 each. For Mixer and Game Tickets RSVP by 12 noon Thursday\, May 23 to Your Chamber (NE Tarrant - Beverly Woolsey at 817-281-9376 or bwoolsey@netarrant.org\, Colleyville - Shirlee Randall at (817) 488-7148 or email at shirlee@colleyvillechamber.org\, Southlake - Patti Faber at 817-481-8200 or email at patti@southlakechamber.com) </font></b></b></span></p>\n<p>\n	<span style="font-size: 12px\;"><b><b><font size="5">All kids get to run the bases after the game! </font></b></b></span></p>\n<p>\n	&nbsp\;</p>\n<p>\n	&nbsp\;</p>\n<p>\n	&nbsp\;</p>\n<p>\n	&nbsp\;</p>\n
LOCATION:
UID:e.642.5654
SEQUENCE:3
DTSTAMP:20260422T222812Z
URL:https://business.colleyvillechamber.org/events/details/multi-chamber-mixer-and-ft-worth-cats-ball-game-05-24-2013-5654
END:VEVENT

END:VCALENDAR
