BEGIN:VCALENDAR
VERSION:2.0
PRODID:-//ChamberMaster//Event Calendar 2.0//EN
METHOD:PUBLISH
X-PUBLISHED-TTL:P3D
REFRESH-INTERVAL:P3D
CALSCALE:GREGORIAN
BEGIN:VEVENT
DTSTART:20140421T220000Z
DTEND:20140422T000000Z
X-MICROSOFT-CDO-ALLDAYEVENT:FALSE
SUMMARY:Multi-Chamber Mixer - New Date
DESCRIPTION:2014 Multi-Chamber Mixer - Must have ticket to attend\n\nDallas/Fort Worth Marriott Hotel & Golf Club at Champions Circle\n\n3300 Championship Pkwy.\n\nFort Worth\, TX  76177
X-ALT-DESC;FMTTYPE=text/html:2014 Multi-Chamber Mixer - Must have ticket to attend<br />\nDallas/Fort Worth Marriott Hotel &amp\; Golf Club at Champions Circle<br />\n3300 Championship Pkwy.<br />\nFort Worth\, TX&nbsp\; 76177
LOCATION:
UID:e.642.6844
SEQUENCE:3
DTSTAMP:20260422T051736Z
URL:https://business.colleyvillechamber.org/events/details/multi-chamber-mixer-new-date-04-21-2014-6844
END:VEVENT

END:VCALENDAR
