BEGIN:VCALENDAR
VERSION:2.0
PRODID:-//ChamberMaster//Event Calendar 2.0//EN
METHOD:PUBLISH
X-PUBLISHED-TTL:P3D
REFRESH-INTERVAL:P3D
CALSCALE:GREGORIAN
BEGIN:VEVENT
DTSTART:20130330T170000Z
DTEND:20130331T010000Z
X-MICROSOFT-CDO-ALLDAYEVENT:FALSE
SUMMARY:Music Festival
DESCRIPTION:Free concert\, food trucks\, car show and more!
X-ALT-DESC;FMTTYPE=text/html:Free concert\, food trucks\, car show and more!
LOCATION:6100 Colleyville Blvd. Colleyville\, TX 76034
UID:e.642.5613
SEQUENCE:3
DTSTAMP:20260423T034143Z
URL:https://business.colleyvillechamber.org/events/details/music-festival-03-30-2013-5613
END:VEVENT

END:VCALENDAR
