BEGIN:VCALENDAR
VERSION:2.0
PRODID:-//ChamberMaster//Event Calendar 2.0//EN
METHOD:PUBLISH
X-PUBLISHED-TTL:P3D
REFRESH-INTERVAL:P3D
CALSCALE:GREGORIAN
BEGIN:VEVENT
DTSTART:20140318T140000Z
DTEND:20140318T153000Z
X-MICROSOFT-CDO-ALLDAYEVENT:FALSE
SUMMARY:NE Senior Leadership
DESCRIPTION:
X-ALT-DESC;FMTTYPE=text/html:
LOCATION:
UID:e.642.1778
SEQUENCE:3
DTSTAMP:20260422T065634Z
URL:https://business.colleyvillechamber.org/events/details/ne-senior-leadership-03-18-2014-1778
END:VEVENT

END:VCALENDAR
