BEGIN:VCALENDAR
VERSION:2.0
PRODID:-//ChamberMaster//Event Calendar 2.0//EN
METHOD:PUBLISH
X-PUBLISHED-TTL:P3D
REFRESH-INTERVAL:P3D
CALSCALE:GREGORIAN
BEGIN:VEVENT
DTSTART:20240711T170000Z
DTEND:20240711T180000Z
X-MICROSOFT-CDO-ALLDAYEVENT:FALSE
SUMMARY:** NETWORKING BREAK** Colleyville Connection
DESCRIPTION:Colleyville Connection Networking\n\nThe Chamber's longest organized Networking Group\n\nOnly one person per industry can be represented.\n\nThe members meet twice a month\, 2nd & 4th Thursday\, \n\nto pass REFERRALS. \n\n\n\nThere are a few OPEN CATEGORIES! Please contact Group Leads:\n\nJen Ulatoski - 817.903.6637
X-ALT-DESC;FMTTYPE=text/html:<span style="color:#333333\;"><span style="font-family:verdana\,sans-serif\;"><span style="font-size:10.5pt\;">Colleyville Connection Networking<br />\nThe Chamber&#39\;s longest organized Networking Group<br />\nOnly one person per industry can be represented.<br />\nThe members meet twice a month\, 2nd &amp\; 4th Thursday\,&nbsp\;<br />\nto pass REFERRALS.&nbsp\;<br />\n<br />\nThere are a few OPEN CATEGORIES! Please contact Group Leads:<br />\nJen Ulatoski - 817.903.6637</span></span></span><br />\n&nbsp\;
LOCATION:Chef Point Bar & Restaurant 5220 State Hwy 121 Colleyville\, TX 76034
UID:e.642.14667
SEQUENCE:3
DTSTAMP:20260423T054442Z
URL:https://business.colleyvillechamber.org/events/details/networking-break-colleyville-connection-14667
END:VEVENT

END:VCALENDAR
