BEGIN:VCALENDAR
VERSION:2.0
PRODID:-//ChamberMaster//Event Calendar 2.0//EN
METHOD:PUBLISH
X-PUBLISHED-TTL:P3D
REFRESH-INTERVAL:P3D
CALSCALE:GREGORIAN
BEGIN:VEVENT
DTSTART:20130205T150000Z
DTEND:20130205T160000Z
X-MICROSOFT-CDO-ALLDAYEVENT:FALSE
SUMMARY:New Member Orientation
DESCRIPTION:
X-ALT-DESC;FMTTYPE=text/html:
LOCATION:Chamber Office 6700 Colleyville Blvd. Colleyville\, TX 76034
UID:e.642.5166
SEQUENCE:3
DTSTAMP:20260423T033906Z
URL:https://business.colleyvillechamber.org/events/details/new-member-orientation-02-05-2013-5166
END:VEVENT

END:VCALENDAR
