BEGIN:VCALENDAR
VERSION:2.0
PRODID:-//ChamberMaster//Event Calendar 2.0//EN
METHOD:PUBLISH
X-PUBLISHED-TTL:P3D
REFRESH-INTERVAL:P3D
CALSCALE:GREGORIAN
BEGIN:VEVENT
DTSTART:20130307T161500Z
DTEND:20130307T170000Z
X-MICROSOFT-CDO-ALLDAYEVENT:FALSE
SUMMARY:New Member Orientation
DESCRIPTION:New members please join us prior to the monthly luncheon!
X-ALT-DESC;FMTTYPE=text/html:New members please join us prior to the monthly luncheon!
LOCATION:Crown of Life Lutheran Church & School 6605 Pleasant Run Rd. Colleyville\, TX 76034
UID:e.642.5167
SEQUENCE:3
DTSTAMP:20260423T015719Z
URL:https://business.colleyvillechamber.org/events/details/new-member-orientation-03-07-2013-5167
END:VEVENT

END:VCALENDAR
