BEGIN:VCALENDAR
VERSION:2.0
PRODID:-//ChamberMaster//Event Calendar 2.0//EN
METHOD:PUBLISH
X-PUBLISHED-TTL:P3D
REFRESH-INTERVAL:P3D
CALSCALE:GREGORIAN
BEGIN:VEVENT
DTSTART:20130613T213000Z
DTEND:20130613T223000Z
X-MICROSOFT-CDO-ALLDAYEVENT:FALSE
SUMMARY:New Member Orientation
DESCRIPTION:Welcome New Members!  Join Chamber staff and board members to learn about how the Chamber can benefit your business and how you can get involved.  Plan to stay for Business After Hours and meet other Chamber members for a fun networking event.
X-ALT-DESC;FMTTYPE=text/html:Welcome New Members!&nbsp\; Join Chamber staff and board members to learn about how the Chamber can benefit your business and how you can get involved.&nbsp\; Plan to stay for Business After Hours and meet other Chamber members for a fun networking event.
LOCATION:Colleyville Cinema Grill & IMAX Theatre
UID:e.642.5655
SEQUENCE:3
DTSTAMP:20260422T222640Z
URL:https://business.colleyvillechamber.org/events/details/new-member-orientation-06-13-2013-5655
END:VEVENT

END:VCALENDAR
