BEGIN:VCALENDAR
VERSION:2.0
PRODID:-//ChamberMaster//Event Calendar 2.0//EN
METHOD:PUBLISH
X-PUBLISHED-TTL:P3D
REFRESH-INTERVAL:P3D
CALSCALE:GREGORIAN
BEGIN:VEVENT
DTSTART:20141009T213000Z
DTEND:20141009T223000Z
X-MICROSOFT-CDO-ALLDAYEVENT:FALSE
SUMMARY:New Member Orientation
DESCRIPTION:
X-ALT-DESC;FMTTYPE=text/html:
LOCATION:Ferrari's Villa Grapevine 1200 William D. Tate Grapevine\, TX 76051
UID:e.642.6956
SEQUENCE:3
DTSTAMP:20260421T204330Z
URL:https://business.colleyvillechamber.org/events/details/new-member-orientation-10-09-2014-6956
END:VEVENT

END:VCALENDAR
