BEGIN:VCALENDAR
VERSION:2.0
PRODID:-//ChamberMaster//Event Calendar 2.0//EN
METHOD:PUBLISH
X-PUBLISHED-TTL:P3D
REFRESH-INTERVAL:P3D
CALSCALE:GREGORIAN
BEGIN:VEVENT
DTSTART:20121030T140000Z
DTEND:20121030T150000Z
X-MICROSOFT-CDO-ALLDAYEVENT:FALSE
SUMMARY:New Member Orientation
DESCRIPTION:New Member Orientation:\n\nChamber Staff\, Lead Groups\, and Ambassadors welcome new members!
X-ALT-DESC;FMTTYPE=text/html:New Member Orientation:<br />\nChamber Staff\, Lead Groups\, and Ambassadors welcome new members!<span _fck_bookmark="1" style="display: none">&nbsp\;</span>
LOCATION:
UID:e.642.5093
SEQUENCE:3
DTSTAMP:20260423T105013Z
URL:https://business.colleyvillechamber.org/events/details/new-member-orientation-10-30-2012-5093
END:VEVENT

END:VCALENDAR
