BEGIN:VCALENDAR
VERSION:2.0
PRODID:-//ChamberMaster//Event Calendar 2.0//EN
METHOD:PUBLISH
X-PUBLISHED-TTL:P3D
REFRESH-INTERVAL:P3D
CALSCALE:GREGORIAN
BEGIN:VEVENT
DTSTART:20141113T223000Z
DTEND:20141113T233000Z
X-MICROSOFT-CDO-ALLDAYEVENT:FALSE
SUMMARY:New Member Orientation
DESCRIPTION:
X-ALT-DESC;FMTTYPE=text/html:
LOCATION:Boi Na Braza 4025 William D. Tate Grapevine\, TX 76051
UID:e.642.6957
SEQUENCE:3
DTSTAMP:20260421T171929Z
URL:https://business.colleyvillechamber.org/events/details/new-member-orientation-11-13-2014-6957
END:VEVENT

END:VCALENDAR
