BEGIN:VCALENDAR
VERSION:2.0
PRODID:-//ChamberMaster//Event Calendar 2.0//EN
METHOD:PUBLISH
X-PUBLISHED-TTL:P3D
REFRESH-INTERVAL:P3D
CALSCALE:GREGORIAN
BEGIN:VEVENT
DTSTART:20131230T180000Z
DTEND:20131230T190000Z
X-MICROSOFT-CDO-ALLDAYEVENT:FALSE
SUMMARY:No Business Builders-cancelled for the holidays!!!
DESCRIPTION:
X-ALT-DESC;FMTTYPE=text/html:
LOCATION:
UID:e.642.6008
SEQUENCE:3
DTSTAMP:20260422T114920Z
URL:https://business.colleyvillechamber.org/events/details/no-business-builders-cancelled-for-the-holidays-12-30-2013-6008
END:VEVENT

END:VCALENDAR
