BEGIN:VCALENDAR
VERSION:2.0
PRODID:-//ChamberMaster//Event Calendar 2.0//EN
METHOD:PUBLISH
X-PUBLISHED-TTL:P3D
REFRESH-INTERVAL:P3D
CALSCALE:GREGORIAN
BEGIN:VEVENT
DTSTART:20131205T180000Z
DTEND:20131205T190000Z
X-MICROSOFT-CDO-ALLDAYEVENT:FALSE
SUMMARY:No Colleyville Connection
DESCRIPTION:No Colleyville Connection in lieu of Chamber Luncheon!
X-ALT-DESC;FMTTYPE=text/html:<span style="color: rgb(255\, 0\, 0)\;">No Colleyville Connection in lieu of Chamber Luncheon!</span>
LOCATION:
UID:e.642.6000
SEQUENCE:3
DTSTAMP:20260422T114434Z
URL:https://business.colleyvillechamber.org/events/details/no-colleyville-connection-12-05-2013-6000
END:VEVENT

END:VCALENDAR
