BEGIN:VCALENDAR
VERSION:2.0
PRODID:-//ChamberMaster//Event Calendar 2.0//EN
METHOD:PUBLISH
X-PUBLISHED-TTL:P3D
REFRESH-INTERVAL:P3D
CALSCALE:GREGORIAN
BEGIN:VEVENT
DTSTART:20240627T150000Z
DTEND:20240627T160000Z
X-MICROSOFT-CDO-ALLDAYEVENT:FALSE
SUMMARY:*NO MEETING DUE TO NETWORKING BREAK* Economic Development Update
DESCRIPTION:
X-ALT-DESC;FMTTYPE=text/html:
LOCATION:Colleyville Business Center 5601 Colleyville Blvd
UID:e.642.29941
SEQUENCE:3
DTSTAMP:20260423T042200Z
URL:https://business.colleyvillechamber.org/events/details/no-meeting-due-to-networking-break-economic-development-update-29941
END:VEVENT

END:VCALENDAR
