BEGIN:VCALENDAR
VERSION:2.0
PRODID:-//ChamberMaster//Event Calendar 2.0//EN
METHOD:PUBLISH
X-PUBLISHED-TTL:P3D
REFRESH-INTERVAL:P3D
CALSCALE:GREGORIAN
BEGIN:VEVENT
DTSTART:20240108T233000Z
DTEND:20240109T003000Z
X-MICROSOFT-CDO-ALLDAYEVENT:FALSE
SUMMARY:**NO MEETING-NETWORKING BREAK** MondayMedi (Medical) Meetup
DESCRIPTION:Come join us for Monday Medi Meetup. This is an open networking opportunity for you to build your network and relationships with other business owners and entrepreneurs. \n\n\n\nCome ready to network\, door prize for the drawing\, and bring plenty of business cards!
X-ALT-DESC;FMTTYPE=text/html:<span style="font-size:14px\;">Come join us for Monday Medi Meetup. This is an open networking opportunity for you to build your network and relationships with other business owners and entrepreneurs.&nbsp\;<br />\n<br />\nCome ready to network\, door prize for the drawing\, and bring plenty of business cards!&nbsp\;</span><br />\n&nbsp\; &nbsp\; &nbsp\;
LOCATION:LT Men's Clinic 5604 Colleyville Blvd Suite H Colleyville\, TX 76034
UID:e.642.26379
SEQUENCE:3
DTSTAMP:20260423T153459Z
URL:https://business.colleyvillechamber.org/events/details/no-meeting-networking-break-mondaymedi-medical-meetup-26379
END:VEVENT

END:VCALENDAR
