BEGIN:VCALENDAR
VERSION:2.0
PRODID:-//ChamberMaster//Event Calendar 2.0//EN
METHOD:PUBLISH
X-PUBLISHED-TTL:P3D
REFRESH-INTERVAL:P3D
CALSCALE:GREGORIAN
BEGIN:VEVENT
DTSTART:20140130T203000Z
DTEND:20140130T220000Z
X-MICROSOFT-CDO-ALLDAYEVENT:FALSE
SUMMARY:North Hills Hospital Surgery re-opening and ribbon cutting
DESCRIPTION:Please join us for free food\, behind-the scenes surgery suite tours.  Door prizes\, drawings and healthcare education available on-site for this free event!
X-ALT-DESC;FMTTYPE=text/html:Please join us for free food\, behind-the scenes surgery suite tours.&nbsp\; Door prizes\, drawings and healthcare education available on-site for this free event!
LOCATION:North Hills Hospital Surgery suite reception area 4401 Booth Calloway Road\, NRH\, Tx 76180
UID:e.642.6063
SEQUENCE:3
DTSTAMP:20260422T112807Z
URL:https://business.colleyvillechamber.org/events/details/north-hills-hospital-surgery-re-opening-and-ribbon-cutting-01-30-2014-6063
END:VEVENT

END:VCALENDAR
