BEGIN:VCALENDAR
VERSION:2.0
PRODID:-//ChamberMaster//Event Calendar 2.0//EN
METHOD:PUBLISH
X-PUBLISHED-TTL:P3D
REFRESH-INTERVAL:P3D
CALSCALE:GREGORIAN
BEGIN:VEVENT
DTSTART:20140124T110000Z
DTEND:20140124T150000Z
X-MICROSOFT-CDO-ALLDAYEVENT:FALSE
SUMMARY:North Hills Hospital-WBAP Live Radio Remote Event
DESCRIPTION:Join us for this free special event with WBAP\, free food\, drawings and giveaways\, and healthcare education open to the public!!
X-ALT-DESC;FMTTYPE=text/html:Join us for this free&nbsp\;special event with WBAP\, free food\, drawings and giveaways\, and healthcare education <span style="color: rgb(255\, 0\, 0)\;">open to the public!!</span>
LOCATION:North Hills Hospital main lobby 4401 Booth Calloway Road\, NRH\, Tx 76180
UID:e.642.6062
SEQUENCE:3
DTSTAMP:20260422T112812Z
URL:https://business.colleyvillechamber.org/events/details/north-hills-hospital-wbap-live-radio-remote-event-01-24-2014-6062
END:VEVENT

END:VCALENDAR
