BEGIN:VCALENDAR
VERSION:2.0
PRODID:-//ChamberMaster//Event Calendar 2.0//EN
METHOD:PUBLISH
X-PUBLISHED-TTL:P3D
REFRESH-INTERVAL:P3D
CALSCALE:GREGORIAN
BEGIN:VEVENT
DTSTART;VALUE=DATE:20140918
DTEND;VALUE=DATE:20140919
TRANSP:TRANSPARENT
X-MICROSOFT-CDO-ALLDAYEVENT:TRUE
SUMMARY:North Texas Giving Day
DESCRIPTION:Grow your gift to Metroport Meals On Wheels or to the non-profit of your choice by giving on North Texas Giving Day! Any gifts gven on this day thru the North Texas Giving Day website will be enhanced with fund from participating foundations. Please consider giving on this day to Grow Your Gift! www.NorthTexasGivingDay.org 6 am - midnight Thursday\, Sept. 18
X-ALT-DESC;FMTTYPE=text/html:Grow your gift to Metroport Meals On Wheels or to the non-profit of your choice by giving on North Texas Giving Day! Any gifts gven on this day thru the North Texas Giving Day website will be enhanced with fund from participating foundations. Please consider giving on this day to Grow Your Gift! www.NorthTexasGivingDay.org 6 am - midnight Thursday\, Sept. 18
LOCATION:North Texas
UID:e.642.6944
SEQUENCE:3
DTSTAMP:20260421T221347Z
URL:https://business.colleyvillechamber.org/events/details/north-texas-giving-day-09-18-2014-6944
END:VEVENT

END:VCALENDAR
