BEGIN:VCALENDAR
VERSION:2.0
PRODID:-//ChamberMaster//Event Calendar 2.0//EN
METHOD:PUBLISH
X-PUBLISHED-TTL:P3D
REFRESH-INTERVAL:P3D
CALSCALE:GREGORIAN
BEGIN:VEVENT
DTSTART:20240919T150000Z
DTEND:20240919T220000Z
X-MICROSOFT-CDO-ALLDAYEVENT:FALSE
SUMMARY:North Texas Giving Dollar Day
DESCRIPTION:In honor of North Texas Giving Day\, enjoy $1 tickets on Thursday\, September 19 at the ICR Discovery Center! Come explore our Exhibit Hall\, watch a show at the Planetarium\, and interact with other local ministries from the Dallas-Fort Worth area! Arrive early to participate in special activities including a raffle\, free giveaways\, and an auction for charity. Don't miss this incredible opportunity to embark on a journey of exploration and wonder with your loved ones! Ticket sales are limited\, so be sure to purchase your tickets in advance!
X-ALT-DESC;FMTTYPE=text/html:In honor of North Texas Giving Day\, enjoy $1 tickets on Thursday\, September 19 at the ICR Discovery Center! Come explore our Exhibit Hall\, watch a show at the Planetarium\, and interact with other local ministries from the Dallas-Fort Worth area! Arrive early to participate in special activities including a raffle\, free giveaways\, and an auction for charity. Don&#39\;t miss this incredible opportunity to embark on a journey of exploration and wonder with your loved ones! Ticket sales are limited\, so be sure to purchase your tickets in advance!
LOCATION:ICR Discovery Center 1830 Royal Lane Dallas\, Texas 75229
UID:e.642.31007
SEQUENCE:3
DTSTAMP:20260423T130715Z
URL:https://business.colleyvillechamber.org/events/details/north-texas-giving-dollar-day-31007
END:VEVENT

END:VCALENDAR
