BEGIN:VCALENDAR
VERSION:2.0
PRODID:-//ChamberMaster//Event Calendar 2.0//EN
METHOD:PUBLISH
X-PUBLISHED-TTL:P3D
REFRESH-INTERVAL:P3D
CALSCALE:GREGORIAN
BEGIN:VEVENT
DTSTART:20150213T143000Z
DTEND:20150213T193000Z
X-MICROSOFT-CDO-ALLDAYEVENT:FALSE
SUMMARY:Northeast Tarrant Transportation Summit
DESCRIPTION:Presented by Commissioner Gary Fickes Tarrant County\, Precinct 3\n\n\n\nKeynote Speaker:  Congressman Roger Williams\,\n\nCommittee on Transportation & Infrastructure
X-ALT-DESC;FMTTYPE=text/html:<br />\n<br />\nPresented by Commissioner Gary Fickes Tarrant County\, Precinct 3<br />\n<br />\nKeynote Speaker:&nbsp\; Congressman Roger Williams\,<br />\nCommittee on Transportation &amp\; Infrastructure<br />\n<br />\n&nbsp\;
LOCATION:Hurst Conference Center 1600 Campus Drive Hurst\, TX
UID:e.642.7242
SEQUENCE:3
DTSTAMP:20260421T123738Z
URL:https://business.colleyvillechamber.org/events/details/northeast-tarrant-transportation-summit-02-13-2015-7242
END:VEVENT

END:VCALENDAR
