BEGIN:VCALENDAR
VERSION:2.0
PRODID:-//ChamberMaster//Event Calendar 2.0//EN
METHOD:PUBLISH
X-PUBLISHED-TTL:P3D
REFRESH-INTERVAL:P3D
CALSCALE:GREGORIAN
BEGIN:VEVENT
DTSTART:20121128T180000Z
DTEND:20121128T190000Z
X-MICROSOFT-CDO-ALLDAYEVENT:FALSE
SUMMARY:Nutrition\, Stress\, Diabetes & The Holidays
DESCRIPTION:You CAN manage all of these!  Join us at our clinic for a FREE Lunch and Learn with a meal prepared by us just for you and find out how to maintain allergen-free eating during the holidays and preserve a sense of joy throughout what can be a very stressful time.\n\n\n\nSeating is limited so call 817-481-6342 NOW to RSVP before it fills up!
X-ALT-DESC;FMTTYPE=text/html:<span style="color: #0000cd"><span style="font-family: tahoma"><span style="font-size: 12px">You CAN manage all of these!&nbsp\; Join us at our clinic for a FREE Lunch and Learn with a meal prepared by us just for you and find out how to maintain allergen-free eating during the holidays and preserve a sense of joy throughout what can be a very stressful time.<br />\n<br />\nSeating is limited so call 817-481-6342 NOW to RSVP before it fills up!</span></span></span>
LOCATION:Kotsanis Institute 2260 Pool Road Grapevine\, Texas 76051
UID:e.642.5131
SEQUENCE:3
DTSTAMP:20260423T090449Z
URL:https://business.colleyvillechamber.org/events/details/nutrition-stress-diabetes-the-holidays-11-28-2012-5131
END:VEVENT

END:VCALENDAR
