BEGIN:VCALENDAR
VERSION:2.0
PRODID:-//ChamberMaster//Event Calendar 2.0//EN
METHOD:PUBLISH
X-PUBLISHED-TTL:P3D
REFRESH-INTERVAL:P3D
CALSCALE:GREGORIAN
BEGIN:VEVENT
DTSTART:20120427T210000Z
DTEND:20120428T230000Z
X-MICROSOFT-CDO-ALLDAYEVENT:FALSE
SUMMARY:Old Tyme Bar-B-Que
DESCRIPTION:Benefiting the Special Olympics
X-ALT-DESC;FMTTYPE=text/html:Benefiting the Special Olympics
LOCATION:5301 Riverwalk Drive
UID:e.642.5039
SEQUENCE:3
DTSTAMP:20260423T195357Z
URL:https://business.colleyvillechamber.org/events/details/old-tyme-bar-b-que-04-27-2012-5039
END:VEVENT

END:VCALENDAR
