BEGIN:VCALENDAR
VERSION:2.0
PRODID:-//ChamberMaster//Event Calendar 2.0//EN
METHOD:PUBLISH
X-PUBLISHED-TTL:P3D
REFRESH-INTERVAL:P3D
CALSCALE:GREGORIAN
BEGIN:VEVENT
DTSTART:20130426T230000Z
DTEND:20130427T010000Z
X-MICROSOFT-CDO-ALLDAYEVENT:FALSE
SUMMARY:Old Tyme BBQ
DESCRIPTION:Hosted by Colleyville Police Dept. to benefit Texas Special Olympics.  Event is scheduled April 26-27\, on the grounds of Colleyville Center.  The event kicks off at 6:00 p.m. with a free fish fry and live music.  A donation to Special Olympics gains entry to a special VIP section\, with preferred seating\, and complimentary food and beverages.  On Saturday\, April 27\, gates open at 11:00 a.m. for Texas barbecue ($5 a plate).
X-ALT-DESC;FMTTYPE=text/html:Hosted by Colleyville Police Dept. to benefit Texas Special Olympics.&nbsp\; Event is scheduled April 26-27\, on the grounds of Colleyville Center.&nbsp\; The event kicks off at 6:00 p.m. with a free fish fry and live music.&nbsp\; A donation to Special Olympics gains entry to a special VIP section\, with preferred seating\, and complimentary food and beverages.&nbsp\; On Saturday\, April 27\, gates open at 11:00 a.m. for Texas barbecue ($5 a plate).
LOCATION:
UID:e.642.5620
SEQUENCE:3
DTSTAMP:20260423T000909Z
URL:https://business.colleyvillechamber.org/events/details/old-tyme-bbq-04-26-2013-5620
END:VEVENT

END:VCALENDAR
